BEGIN:VCALENDAR
VERSION:2.0
PRODID:-//jEvents 2.0 for Joomla//EN
CALSCALE:GREGORIAN
METHOD:PUBLISH
BEGIN:VTIMEZONE
TZID:Europe/Berlin
BEGIN:STANDARD
DTSTART:20241027T020000
RDATE:20250330T030000
TZOFFSETFROM:+0200
TZOFFSETTO:+0100
TZNAME:Europe/Berlin CET
END:STANDARD
BEGIN:STANDARD
DTSTART:20251026T020000
RDATE:20260329T030000
TZOFFSETFROM:+0200
TZOFFSETTO:+0100
TZNAME:Europe/Berlin CET
END:STANDARD
BEGIN:STANDARD
DTSTART:20261025T020000
RDATE:20270328T030000
TZOFFSETFROM:+0200
TZOFFSETTO:+0100
TZNAME:Europe/Berlin CET
END:STANDARD
BEGIN:STANDARD
DTSTART:20271031T020000
RDATE:20280326T030000
TZOFFSETFROM:+0200
TZOFFSETTO:+0100
TZNAME:Europe/Berlin CET
END:STANDARD
BEGIN:DAYLIGHT
DTSTART:20240906T073000
RDATE:20241027T020000
TZOFFSETFROM:+0100
TZOFFSETTO:+0200
TZNAME:Europe/Berlin CEST
END:DAYLIGHT
BEGIN:DAYLIGHT
DTSTART:20250330T030000
RDATE:20251026T020000
TZOFFSETFROM:+0100
TZOFFSETTO:+0200
TZNAME:Europe/Berlin CEST
END:DAYLIGHT
BEGIN:DAYLIGHT
DTSTART:20260329T030000
RDATE:20261025T020000
TZOFFSETFROM:+0100
TZOFFSETTO:+0200
TZNAME:Europe/Berlin CEST
END:DAYLIGHT
BEGIN:DAYLIGHT
DTSTART:20270328T030000
RDATE:20271031T020000
TZOFFSETFROM:+0100
TZOFFSETTO:+0200
TZNAME:Europe/Berlin CEST
END:DAYLIGHT
END:VTIMEZONE
BEGIN:VEVENT
UID:2a9b7cff7924bb6dd501c65ef68cdcd3
CATEGORIES:Berg
CREATED:20250315T134742
SUMMARY:ÄNDERUNG: Bergtour zum Geierstein, 1491 m, Bayerische Voralpen
DESCRIPTION:An den Fischteichen von Lenggries-Hohenburg vorbei führt der Waldweg zum Au
 ssichtspunkt Markeck, 1057 m.\nWeiter geht’s über den steiler werdenden Ste
 ig, über Wurzeln und Felsen, etwas anstrengend zum Gipfel. Hier machen wir 
 Brotzeit.\nDer Abstieg erfolgt als Rundweg hinab bis zur Isarwelle und von 
 dort zurück zum Parkplatz Hohenburg.\nEinkehr: Unterwegs keine, evtl. nach 
 der Tour. Bitte Getränke und Brotzeit mitnehmen.\nGehzeit/Höhenmeter: ca. 5
  Std. bei ca. 850 hm, ca. 12 km\nAnforderung/Hinweise: mittelschwere Bergto
 ur, die Kondition und Trittsicherheit verlangt. Anmeldung erforderlich.\nTo
 urenleitung: Rita, Tel. 0177-1590085 oder 08171-80182\nMail: Diese E-Mail-A
 dresse ist vor Spambots geschützt! Zur Anzeige muss JavaScript eingeschalte
 t sein.\n(Die ursprünglich von Brigitte vorgesehene Tour zum Schinder kann 
 aus gesundheitlichen Gründen leider nicht stattfinden)\n
X-ALT-DESC;FMTTYPE=text/html:<p>An den Fischteichen von Lenggries-Hohenburg vorbei führt der Waldweg zum
  Aussichtspunkt Markeck, 1057 m.<br />Weiter geht’s über den steiler werden
 den Steig, über Wurzeln und Felsen, etwas anstrengend zum Gipfel. Hier mach
 en wir Brotzeit.<br />Der Abstieg erfolgt als Rundweg hinab bis zur Isarwel
 le und von dort zurück zum Parkplatz Hohenburg.</p><p>Einkehr: Unterwegs ke
 ine, evtl. nach der Tour. Bitte Getränke und Brotzeit mitnehmen.</p><p><str
 ong>Gehzeit/Höhenmeter:</strong> ca. 5 Std. bei ca. 850 hm, ca. 12 km</p><p
 ><strong>Anforderung/Hinweise:</strong> mittelschwere Bergtour, die Konditi
 on und Trittsicherheit verlangt. Anmeldung erforderlich.</p><p><strong>Tour
 enleitung:</strong> Rita, Tel. 0177-1590085 oder 08171-80182<br />Mail: <jo
 omla-hidden-mail  is-link="1" is-email="1" first="cml0YS5o" last="bmF0dXJmc
 mV1bmRlLXdvbGZyYXRzaGF1c2VuLmRl" text="cml0YS5oQG5hdHVyZnJldW5kZS13b2xmcmF0
 c2hhdXNlbi5kZQ==" base="" >Diese E-Mail-Adresse ist vor Spambots geschützt!
  Zur Anzeige muss JavaScript eingeschaltet sein.</joomla-hidden-mail></p><p
 >(Die ursprünglich von Brigitte vorgesehene Tour zum Schinder kann aus gesu
 ndheitlichen Gründen leider nicht stattfinden)</p>
DTSTAMP:20260422T201049
DTSTART;TZID=Europe/Berlin:20250907T073000
SEQUENCE:0
TRANSP:OPAQUE
END:VEVENT
END:VCALENDAR