BEGIN:VCALENDAR
VERSION:2.0
PRODID:-//jEvents 2.0 for Joomla//EN
CALSCALE:GREGORIAN
METHOD:PUBLISH
BEGIN:VTIMEZONE
TZID:Europe/Berlin
BEGIN:STANDARD
DTSTART:20241027T020000
RDATE:20250330T030000
TZOFFSETFROM:+0200
TZOFFSETTO:+0100
TZNAME:Europe/Berlin CET
END:STANDARD
BEGIN:STANDARD
DTSTART:20251026T020000
RDATE:20260329T030000
TZOFFSETFROM:+0200
TZOFFSETTO:+0100
TZNAME:Europe/Berlin CET
END:STANDARD
BEGIN:STANDARD
DTSTART:20261025T020000
RDATE:20270328T030000
TZOFFSETFROM:+0200
TZOFFSETTO:+0100
TZNAME:Europe/Berlin CET
END:STANDARD
BEGIN:STANDARD
DTSTART:20271031T020000
RDATE:20280326T030000
TZOFFSETFROM:+0200
TZOFFSETTO:+0100
TZNAME:Europe/Berlin CET
END:STANDARD
BEGIN:DAYLIGHT
DTSTART:20240911T000000
RDATE:20241027T020000
TZOFFSETFROM:+0100
TZOFFSETTO:+0200
TZNAME:Europe/Berlin CEST
END:DAYLIGHT
BEGIN:DAYLIGHT
DTSTART:20250330T030000
RDATE:20251026T020000
TZOFFSETFROM:+0100
TZOFFSETTO:+0200
TZNAME:Europe/Berlin CEST
END:DAYLIGHT
BEGIN:DAYLIGHT
DTSTART:20260329T030000
RDATE:20261025T020000
TZOFFSETFROM:+0100
TZOFFSETTO:+0200
TZNAME:Europe/Berlin CEST
END:DAYLIGHT
BEGIN:DAYLIGHT
DTSTART:20270328T030000
RDATE:20271031T020000
TZOFFSETFROM:+0100
TZOFFSETTO:+0200
TZNAME:Europe/Berlin CEST
END:DAYLIGHT
END:VTIMEZONE
BEGIN:VEVENT
UID:e513797f3edacad58a92a40976165b92
CATEGORIES:Kanu
CREATED:20250315T135006
SUMMARY:Lofer-Rodeo
DESCRIPTION:Nachdem in 2024 das Lofer-Rodeo aufgrund der Hochwassersituation abgesagt w
 erden musste, hoffen wir, dass es in 2025 wieder stattfinden kann. An diese
 m Wochenende gibt es neben den Wettkämpfen viel Spaß in Lofer. Neben dem Na
 chtpaddeln am Freitag, finden am Samstag die head-to-head Rennen beim Boate
 rcross statt. Für die gute Laune am Lofer-Rodeo sorgen die Partys der Padde
 l-Community am Abend. \nTourenleitung: Christoph Stiglmaier \nMail: Diese E
 -Mail-Adresse ist vor Spambots geschützt! Zur Anzeige muss JavaScript einge
 schaltet sein.\n
X-ALT-DESC;FMTTYPE=text/html:<p>Nachdem in 2024 das Lofer-Rodeo aufgrund der Hochwassersituation abgesag
 t werden musste, hoffen wir, dass es in 2025 wieder stattfinden kann. An di
 esem Wochenende gibt es neben den Wettkämpfen viel Spaß in Lofer. Neben dem
  Nachtpaddeln am Freitag, finden am Samstag die head-to-head Rennen beim Bo
 atercross statt. Für die gute Laune am Lofer-Rodeo sorgen die Partys der Pa
 ddel-Community am Abend. </p><p>Tourenleitung: Christoph Stiglmaier <br />M
 ail: <joomla-hidden-mail  is-link="1" is-email="1" first="Y2hyaXN0b3BoLnM="
  last="bmF0dXJmcmV1bmRlLXdvbGZyYXRzaGF1c2VuLmRl" text="Y2hyaXN0b3BoLnNAbmF0
 dXJmcmV1bmRlLXdvbGZyYXRzaGF1c2VuLmRl" base="" >Diese E-Mail-Adresse ist vor
  Spambots geschützt! Zur Anzeige muss JavaScript eingeschaltet sein.</jooml
 a-hidden-mail></p>
DTSTAMP:20260422T224932
DTSTART;TZID=Europe/Berlin;VALUE=DATE:20250912
DTEND;TZID=Europe/Berlin;VALUE=DATE:20250915
SEQUENCE:0
TRANSP:OPAQUE
END:VEVENT
END:VCALENDAR