BEGIN:VCALENDAR
VERSION:2.0
PRODID:-//jEvents 2.0 for Joomla//EN
CALSCALE:GREGORIAN
METHOD:PUBLISH
BEGIN:VTIMEZONE
TZID:Europe/Berlin
BEGIN:STANDARD
DTSTART:20241027T020000
RDATE:20250330T030000
TZOFFSETFROM:+0200
TZOFFSETTO:+0100
TZNAME:Europe/Berlin CET
END:STANDARD
BEGIN:STANDARD
DTSTART:20251026T020000
RDATE:20260329T030000
TZOFFSETFROM:+0200
TZOFFSETTO:+0100
TZNAME:Europe/Berlin CET
END:STANDARD
BEGIN:STANDARD
DTSTART:20261025T020000
RDATE:20270328T030000
TZOFFSETFROM:+0200
TZOFFSETTO:+0100
TZNAME:Europe/Berlin CET
END:STANDARD
BEGIN:STANDARD
DTSTART:20271031T020000
RDATE:20280326T030000
TZOFFSETFROM:+0200
TZOFFSETTO:+0100
TZNAME:Europe/Berlin CET
END:STANDARD
BEGIN:DAYLIGHT
DTSTART:20240913T120000
RDATE:20241027T020000
TZOFFSETFROM:+0100
TZOFFSETTO:+0200
TZNAME:Europe/Berlin CEST
END:DAYLIGHT
BEGIN:DAYLIGHT
DTSTART:20250330T030000
RDATE:20251026T020000
TZOFFSETFROM:+0100
TZOFFSETTO:+0200
TZNAME:Europe/Berlin CEST
END:DAYLIGHT
BEGIN:DAYLIGHT
DTSTART:20260329T030000
RDATE:20261025T020000
TZOFFSETFROM:+0100
TZOFFSETTO:+0200
TZNAME:Europe/Berlin CEST
END:DAYLIGHT
BEGIN:DAYLIGHT
DTSTART:20270328T030000
RDATE:20271031T020000
TZOFFSETFROM:+0100
TZOFFSETTO:+0200
TZNAME:Europe/Berlin CEST
END:DAYLIGHT
END:VTIMEZONE
BEGIN:VEVENT
UID:a8ca18c42eca7d0e45dbe4740086785d
CATEGORIES:Rad
CREATED:20250315T135129
SUMMARY:Achtung: Neue Uhrzeit! - MTB-Tour um den Trauchberg
DESCRIPTION:Wir starten Sonntag um 12:00 mittags ab Paradiesweg Wolfratshausen!\nDiese 
 mittelschwere Tour in waldiger Landschaft der Vorberge führt uns vom Forsth
 aus Unternogg zuerst der Halbammer folgend, dann hinauf zur Mardersteig- un
 d Wasserscheidhütte. Danach das enge Bachtal hinaus nach Halblech, Trauchga
 u und weiter zur Königsstraße, auf der wir wieder zum Ausgangspunkt gelange
 n. Ein Mountainbike und etwas Kondition sind bei dieser Strecke erforderlic
 h. Brotzeit mitnehmen!\nStrecke/Höhenmeter: 40 km bei 600 Hm, Fahrtzeit ca.
  4 Std.\nHinweise: Helm ist zwingend erforderlich, bitte vorab beim Tourenl
 eiter anmelden\nTourenleitung: Marcus, Tel: 0151-40745341 \nMail: Diese E-M
 ail-Adresse ist vor Spambots geschützt! Zur Anzeige muss JavaScript eingesc
 haltet sein.\n
X-ALT-DESC;FMTTYPE=text/html:<p>Wir starten Sonntag um 12:00 mittags ab Paradiesweg Wolfratshausen!</p><
 p>Diese mittelschwere Tour in waldiger Landschaft der Vorberge führt uns vo
 m Forsthaus Unternogg zuerst der Halbammer folgend, dann hinauf zur Marders
 teig- und Wasserscheidhütte. Danach das enge Bachtal hinaus nach Halblech, 
 Trauchgau und weiter zur Königsstraße, auf der wir wieder zum Ausgangspunkt
  gelangen. Ein Mountainbike und etwas Kondition sind bei dieser Strecke erf
 orderlich. Brotzeit mitnehmen!</p><p>Strecke/Höhenmeter: 40 km bei 600 Hm, 
 Fahrtzeit ca. 4 Std.</p><p><strong>Hinweise: Helm ist zwingend erforderlich
 , bitte vorab beim Tourenleiter anmelden</strong></p><p>Tourenleitung: Marc
 us, Tel: 0151-40745341 <br />Mail: <joomla-hidden-mail  is-link="1" is-emai
 l="1" first="bWFyY3VzLmQ=" last="bmF0dXJmcmV1bmRlLXdvbGZyYXRzaGF1c2VuLmRl" 
 text="bWFyY3VzLmRAbmF0dXJmcmV1bmRlLXdvbGZyYXRzaGF1c2VuLmRl" base="" >Diese 
 E-Mail-Adresse ist vor Spambots geschützt! Zur Anzeige muss JavaScript eing
 eschaltet sein.</joomla-hidden-mail></p>
DTSTAMP:20260422T201033
DTSTART;TZID=Europe/Berlin:20250914T120000
SEQUENCE:0
TRANSP:OPAQUE
END:VEVENT
END:VCALENDAR