BEGIN:VCALENDAR
VERSION:2.0
PRODID:-//jEvents 2.0 for Joomla//EN
CALSCALE:GREGORIAN
METHOD:PUBLISH
BEGIN:VTIMEZONE
TZID:Europe/Berlin
BEGIN:STANDARD
DTSTART:20241027T020000
RDATE:20250330T030000
TZOFFSETFROM:+0200
TZOFFSETTO:+0100
TZNAME:Europe/Berlin CET
END:STANDARD
BEGIN:STANDARD
DTSTART:20251026T020000
RDATE:20260329T030000
TZOFFSETFROM:+0200
TZOFFSETTO:+0100
TZNAME:Europe/Berlin CET
END:STANDARD
BEGIN:STANDARD
DTSTART:20261025T020000
RDATE:20270328T030000
TZOFFSETFROM:+0200
TZOFFSETTO:+0100
TZNAME:Europe/Berlin CET
END:STANDARD
BEGIN:STANDARD
DTSTART:20271031T020000
RDATE:20280326T030000
TZOFFSETFROM:+0200
TZOFFSETTO:+0100
TZNAME:Europe/Berlin CET
END:STANDARD
BEGIN:DAYLIGHT
DTSTART:20240918T180000
RDATE:20241027T020000
TZOFFSETFROM:+0100
TZOFFSETTO:+0200
TZNAME:Europe/Berlin CEST
END:DAYLIGHT
BEGIN:DAYLIGHT
DTSTART:20250330T030000
RDATE:20251026T020000
TZOFFSETFROM:+0100
TZOFFSETTO:+0200
TZNAME:Europe/Berlin CEST
END:DAYLIGHT
BEGIN:DAYLIGHT
DTSTART:20260329T030000
RDATE:20261025T020000
TZOFFSETFROM:+0100
TZOFFSETTO:+0200
TZNAME:Europe/Berlin CEST
END:DAYLIGHT
BEGIN:DAYLIGHT
DTSTART:20270328T030000
RDATE:20271031T020000
TZOFFSETFROM:+0100
TZOFFSETTO:+0200
TZNAME:Europe/Berlin CEST
END:DAYLIGHT
END:VTIMEZONE
BEGIN:VEVENT
UID:cb49242fd49da27fd842bccffcf66e3f
CATEGORIES:Allgemein
CREATED:20250315T135256
SUMMARY:Hüttentreff
DESCRIPTION:<p>in der Vereinshütte am Badweiher in Wolfratshausen.</p><p>Alle Mitgliede
 r sind herzlich eingeladen zu gemütlichem Beisammensein und kulinarischen G
 enüssen…. Gäste sind willkommen.&nbsp;</p><p><br />Damit die Hüttenwarte wi
 ssen, wie viele kommen und was Ihr mitbringt, <br /><strong>bitte bis späte
 stens 3 Tage vor dem Hüttentreff anmelden bei:</strong></p><p>Christl und R
 einhard, Tel: 08171-7368 <br />Mail: <joomla-hidden-mail  is-link="1" is-em
 ail="1" first="aHVldHRl" last="bmF0dXJmcmV1bmRlLXdvbGZyYXRzaGF1c2VuLmRl" te
 xt="aHVldHRlQG5hdHVyZnJldW5kZS13b2xmcmF0c2hhdXNlbi5kZQ==" base="" >Diese E-
 Mail-Adresse ist vor Spambots geschützt! Zur Anzeige muss JavaScript einges
 chaltet sein.</joomla-hidden-mail></p>
DTSTAMP:20260422T213130
DTSTART;TZID=Europe/Berlin:20250919T180000
SEQUENCE:0
TRANSP:OPAQUE
END:VEVENT
END:VCALENDAR