BEGIN:VCALENDAR
VERSION:2.0
PRODID:-//jEvents 2.0 for Joomla//EN
CALSCALE:GREGORIAN
METHOD:PUBLISH
BEGIN:VTIMEZONE
TZID:Europe/Berlin
BEGIN:STANDARD
DTSTART:20241027T020000
RDATE:20250330T030000
TZOFFSETFROM:+0200
TZOFFSETTO:+0100
TZNAME:Europe/Berlin CET
END:STANDARD
BEGIN:STANDARD
DTSTART:20251026T020000
RDATE:20260329T030000
TZOFFSETFROM:+0200
TZOFFSETTO:+0100
TZNAME:Europe/Berlin CET
END:STANDARD
BEGIN:STANDARD
DTSTART:20261025T020000
RDATE:20270328T030000
TZOFFSETFROM:+0200
TZOFFSETTO:+0100
TZNAME:Europe/Berlin CET
END:STANDARD
BEGIN:STANDARD
DTSTART:20271031T020000
RDATE:20280326T030000
TZOFFSETFROM:+0200
TZOFFSETTO:+0100
TZNAME:Europe/Berlin CET
END:STANDARD
BEGIN:DAYLIGHT
DTSTART:20240919T063000
RDATE:20241027T020000
TZOFFSETFROM:+0100
TZOFFSETTO:+0200
TZNAME:Europe/Berlin CEST
END:DAYLIGHT
BEGIN:DAYLIGHT
DTSTART:20250330T030000
RDATE:20251026T020000
TZOFFSETFROM:+0100
TZOFFSETTO:+0200
TZNAME:Europe/Berlin CEST
END:DAYLIGHT
BEGIN:DAYLIGHT
DTSTART:20260329T030000
RDATE:20261025T020000
TZOFFSETFROM:+0100
TZOFFSETTO:+0200
TZNAME:Europe/Berlin CEST
END:DAYLIGHT
BEGIN:DAYLIGHT
DTSTART:20270328T030000
RDATE:20271031T020000
TZOFFSETFROM:+0100
TZOFFSETTO:+0200
TZNAME:Europe/Berlin CEST
END:DAYLIGHT
END:VTIMEZONE
BEGIN:VEVENT
UID:6b55ffcb16b373c63e4576b4edaf3d96
CATEGORIES:Berg
CREATED:20250315T135559
SUMMARY:Achtung: Neue Uhrzeit! Bergwanderung Steinernes Tor, 1.955 m – Dalfazalm,  1.693 m – Dalfazer Wasserfall – Tiroler Karwendel
DESCRIPTION:Wir starten am Parkplatz Schwarzenau. Auf durchgehend guten Steigen, Wald- 
 und Schotterwegen haben wir entlang der gesamten Strecke einen tollen Weitb
 lick auf die Region Achensee und die Karwendelberge. In vielen Serpentinen 
 führt der Steig zum Kotalm Niederleger und weiter zum Kotalm Mitterleger. H
 ier legen wir eine Rast ein, um uns für den weiteren Aufstieg zu stärken. D
 er Blick auf das „Steinerne Tor“ bleibt uns jetzt erhalten, ein Stück ins T
 al, dann wieder ansteigend mit herrlichem Blick. Über den verfallenen Kotal
 m Hochleger erreichen wir über Almwiesen den finalen Gipfelanstieg. Vom Ste
 inernen Tor steigen wir nach Süden ab zur Dalfazalm, wo wir einkehren und v
 on der Sonnenterrasse den Blick auf Hochiss und die Achensee-Region genieße
 n können. Der weitere Abstieg führt uns vorbei am beeindruckenden Dalfazer 
 Wasserfall, an dessen Seite immer Kletterer zu beobachten sind. In einer we
 iteren Stunde erreichen wir Maurach Buchau, von wo wir mit dem Bus zurück n
 ach Schwarzenau fahren.\nEinkehr: Evtl. Dalfazalm. Bitte ausreichend Geträn
 ke und Brotzeit mitnehmen!\nGehzeit/ Höhenmeter: ca. 6 Std, ca. 850 Hm, ca.
 13 km\nAnforderung/Hinweise: mittelschwere Bergwanderung. Trittsicherheit u
 nd Schwindelfreiheit erforderlich! Bitte Busgeld mitnehmen.\nTeilnehmeranza
 hl: max. 16. Anmeldung erforderlich bis 18.09.2025.\nTourenleitung: Heidi, 
 Tel: 0176-49549773 \nMail: Diese E-Mail-Adresse ist vor Spambots geschützt!
  Zur Anzeige muss JavaScript eingeschaltet sein.\n
X-ALT-DESC;FMTTYPE=text/html:<p>Wir starten am Parkplatz Schwarzenau. Auf durchgehend guten Steigen, Wal
 d- und Schotterwegen haben wir entlang der gesamten Strecke einen tollen We
 itblick auf die Region Achensee und die Karwendelberge. In vielen Serpentin
 en führt der Steig zum Kotalm Niederleger und weiter zum Kotalm Mitterleger
 . Hier legen wir eine Rast ein, um uns für den weiteren Aufstieg zu stärken
 . Der Blick auf das „Steinerne Tor“ bleibt uns jetzt erhalten, ein Stück in
 s Tal, dann wieder ansteigend mit herrlichem Blick. Über den verfallenen Ko
 talm Hochleger erreichen wir über Almwiesen den finalen Gipfelanstieg. Vom 
 Steinernen Tor steigen wir nach Süden ab zur Dalfazalm, wo wir einkehren un
 d von der Sonnenterrasse den Blick auf Hochiss und die Achensee-Region geni
 eßen können. Der weitere Abstieg führt uns vorbei am beeindruckenden Dalfaz
 er Wasserfall, an dessen Seite immer Kletterer zu beobachten sind. In einer
  weiteren Stunde erreichen wir Maurach Buchau, von wo wir mit dem Bus zurüc
 k nach Schwarzenau fahren.</p><p>Einkehr: Evtl. Dalfazalm. Bitte ausreichen
 d Getränke und Brotzeit mitnehmen!</p><p>Gehzeit/ Höhenmeter: ca. 6 Std, ca
 . 850 Hm, ca.13 km</p><p><strong>Anforderung/Hinweise: mittelschwere Bergwa
 nderung. Trittsicherheit und Schwindelfreiheit erforderlich! Bitte Busgeld 
 mitnehmen.</strong></p><p><strong>Teilnehmeranzahl: max. 16. Anmeldung erfo
 rderlich bis 18.09.2025.</strong></p><p>Tourenleitung: Heidi, Tel: 0176-495
 49773 <br />Mail: <joomla-hidden-mail  is-link="1" is-email="1" first="aGVp
 ZGkucw==" last="bmF0dXJmcmV1bmRlLXdvbGZyYXRzaGF1c2VuLmRl" text="aGVpZGkuc0B
 uYXR1cmZyZXVuZGUtd29sZnJhdHNoYXVzZW4uZGU=" base="" >Diese E-Mail-Adresse is
 t vor Spambots geschützt! Zur Anzeige muss JavaScript eingeschaltet sein.</
 joomla-hidden-mail></p>
DTSTAMP:20260422T201028
DTSTART;TZID=Europe/Berlin:20250920T063000
SEQUENCE:0
TRANSP:OPAQUE
END:VEVENT
END:VCALENDAR