BEGIN:VCALENDAR
VERSION:2.0
PRODID:-//jEvents 2.0 for Joomla//EN
CALSCALE:GREGORIAN
METHOD:PUBLISH
BEGIN:VTIMEZONE
TZID:Europe/Berlin
BEGIN:STANDARD
DTSTART:20241027T020000
RDATE:20250330T030000
TZOFFSETFROM:+0200
TZOFFSETTO:+0100
TZNAME:Europe/Berlin CET
END:STANDARD
BEGIN:STANDARD
DTSTART:20251026T020000
RDATE:20260329T030000
TZOFFSETFROM:+0200
TZOFFSETTO:+0100
TZNAME:Europe/Berlin CET
END:STANDARD
BEGIN:STANDARD
DTSTART:20261025T020000
RDATE:20270328T030000
TZOFFSETFROM:+0200
TZOFFSETTO:+0100
TZNAME:Europe/Berlin CET
END:STANDARD
BEGIN:STANDARD
DTSTART:20271031T020000
RDATE:20280326T030000
TZOFFSETFROM:+0200
TZOFFSETTO:+0100
TZNAME:Europe/Berlin CET
END:STANDARD
BEGIN:DAYLIGHT
DTSTART:20240927T090000
RDATE:20241027T020000
TZOFFSETFROM:+0100
TZOFFSETTO:+0200
TZNAME:Europe/Berlin CEST
END:DAYLIGHT
BEGIN:DAYLIGHT
DTSTART:20250330T030000
RDATE:20251026T020000
TZOFFSETFROM:+0100
TZOFFSETTO:+0200
TZNAME:Europe/Berlin CEST
END:DAYLIGHT
BEGIN:DAYLIGHT
DTSTART:20260329T030000
RDATE:20261025T020000
TZOFFSETFROM:+0100
TZOFFSETTO:+0200
TZNAME:Europe/Berlin CEST
END:DAYLIGHT
BEGIN:DAYLIGHT
DTSTART:20270328T030000
RDATE:20271031T020000
TZOFFSETFROM:+0100
TZOFFSETTO:+0200
TZNAME:Europe/Berlin CEST
END:DAYLIGHT
END:VTIMEZONE
BEGIN:VEVENT
UID:df5a4261620e47459169d1fccbc53610
CATEGORIES:Rad
CREATED:20250315T135736
SUMMARY:Leichte Biketour von Bad Wiessee durch das Söllbachtal  rund um den Hirschberg
DESCRIPTION:Wir starten in Bad Wiessee am Söllbach. Durch das schöne Söllbachtal geht e
 s stetig leicht ansteigend, später mal straff bergauf die Forststraße entla
 ng. Nach ca. einer Stunde kommen wir an die Schwarzentennalm, wo wir eine k
 leine Pause einlegen, um uns für die lange Abfahrt zum Parkplatz Winterstub
 e zu stärken. Wir überqueren die Straße und fahren entlang der Weissach nac
 h Wildbach Kreuth, an der Fischzucht vorbei nach Kreuth und RottachEgern zu
 rück nach Bad Wiessee. Unterwegs finden wir sicher eine gemütliche Einkehr.
  \nStrecke/Höhenmeter: ca. 30 km bei ca. 350 Hm \nHinweise: Helm wird empfo
 hlen, bitte vorab beim Tourenleiter anmelden \nTourenleitung: Rita, Tel: 08
 171-80182 oder 0177-1590085 \nMail: Diese E-Mail-Adresse ist vor Spambots g
 eschützt! Zur Anzeige muss JavaScript eingeschaltet sein.\n
X-ALT-DESC;FMTTYPE=text/html:<p>Wir starten in Bad Wiessee am Söllbach. Durch das schöne Söllbachtal geh
 t es stetig leicht ansteigend, später mal straff bergauf die Forststraße en
 tlang. Nach ca. einer Stunde kommen wir an die Schwarzentennalm, wo wir ein
 e kleine Pause einlegen, um uns für die lange Abfahrt zum Parkplatz Winter
 stube zu stärken. Wir überqueren die Straße und fahren entlang der Weissach
  nach Wildbach Kreuth, an der Fischzucht vorbei nach Kreuth und RottachEge
 rn zurück nach Bad Wiessee. Unterwegs finden wir sicher eine gemütliche Ein
 kehr. </p><p>Strecke/Höhenmeter: ca. 30 km bei ca. 350 Hm </p><p><strong>Hi
 nweise: Helm wird empfohlen, bitte vorab beim Tourenleiter anmelden</strong
 > </p><p>Tourenleitung: Rita, Tel: 08171-80182 oder 0177-1590085 <br />Mail
 : <joomla-hidden-mail  is-link="1" is-email="1" first="cml0YS5o" last="bmF0
 dXJmcmV1bmRlLXdvbGZyYXRzaGF1c2VuLmRl" text="cml0YS5oQG5hdHVyZnJldW5kZS13b2x
 mcmF0c2hhdXNlbi5kZQ==" base="" >Diese E-Mail-Adresse ist vor Spambots gesch
 ützt! Zur Anzeige muss JavaScript eingeschaltet sein.</joomla-hidden-mail><
 /p>
DTSTAMP:20260422T212817
DTSTART;TZID=Europe/Berlin:20250928T090000
SEQUENCE:0
TRANSP:OPAQUE
END:VEVENT
END:VCALENDAR