BEGIN:VCALENDAR
VERSION:2.0
PRODID:-//jEvents 2.0 for Joomla//EN
CALSCALE:GREGORIAN
METHOD:PUBLISH
BEGIN:VTIMEZONE
TZID:Europe/Berlin
BEGIN:STANDARD
DTSTART:20241027T020000
RDATE:20250330T030000
TZOFFSETFROM:+0200
TZOFFSETTO:+0100
TZNAME:Europe/Berlin CET
END:STANDARD
BEGIN:STANDARD
DTSTART:20251026T020000
RDATE:20260329T030000
TZOFFSETFROM:+0200
TZOFFSETTO:+0100
TZNAME:Europe/Berlin CET
END:STANDARD
BEGIN:STANDARD
DTSTART:20261025T020000
RDATE:20270328T030000
TZOFFSETFROM:+0200
TZOFFSETTO:+0100
TZNAME:Europe/Berlin CET
END:STANDARD
BEGIN:STANDARD
DTSTART:20271031T020000
RDATE:20280326T030000
TZOFFSETFROM:+0200
TZOFFSETTO:+0100
TZNAME:Europe/Berlin CET
END:STANDARD
BEGIN:DAYLIGHT
DTSTART:20241002T070000
RDATE:20241027T020000
TZOFFSETFROM:+0100
TZOFFSETTO:+0200
TZNAME:Europe/Berlin CEST
END:DAYLIGHT
BEGIN:DAYLIGHT
DTSTART:20250330T030000
RDATE:20251026T020000
TZOFFSETFROM:+0100
TZOFFSETTO:+0200
TZNAME:Europe/Berlin CEST
END:DAYLIGHT
BEGIN:DAYLIGHT
DTSTART:20260329T030000
RDATE:20261025T020000
TZOFFSETFROM:+0100
TZOFFSETTO:+0200
TZNAME:Europe/Berlin CEST
END:DAYLIGHT
BEGIN:DAYLIGHT
DTSTART:20270328T030000
RDATE:20271031T020000
TZOFFSETFROM:+0100
TZOFFSETTO:+0200
TZNAME:Europe/Berlin CEST
END:DAYLIGHT
END:VTIMEZONE
BEGIN:VEVENT
UID:2d9c0f18c49197979fe2621e147cca50
CATEGORIES:Verschoben - Abgesagt
CREATED:20250315T135921
SUMMARY:Überschreitung Hahnkampl, 2.080 m – Karwendel
DESCRIPTION:<p><span style="background-color: #ffffff; color: #ff0000;"><strong>Achtung
 : neuer Termin Freitag, den 03.10.2025</strong></span></p><p><strong>Abfahr
 t: 07:00 Uhr in Wolfratshausen, 07:30 Uhr Moraltpark Bad Tölz</strong></p><
 p>Wir starten am Alpengasthof in der Eng. Weiter geht es über die Binsalm z
 um Binssattel und von dort über einen schmalen Kammverlauf zum Hahnkampl. D
 ie Überschreitung vom Gipfel zum westlichen Lamsenjoch ist etwas anspruchsv
 oller, hier erwartet uns am Grat eine kurze luftige, mit Drahtseilen gesich
 erte Stelle.</p><p>Einkehr: evtl. Binsalm. Bitte ausreichend Brotzeit und G
 etränke mitnehmen.</p><p>Gehzeit/Höhenmeter: ca. 6 Std bei ca. 880 Hm. Läng
 e ca. 11 km</p><p><strong>Anforderung/Hinweise: Mittelschwere Wanderung. Tr
 ittsicherheit erforderlich! Anmeldung erforderlich.</strong></p><p>Tourenle
 itung: Brigitte, Tel: 0157-71950692 <br />Mail: <joomla-hidden-mail  is-lin
 k="1" is-email="1" first="YnJpZ2l0dGUuZA==" last="bmF0dXJmcmV1bmRlLXdvbGZyY
 XRzaGF1c2VuLmRl" text="YnJpZ2l0dGUuZEBuYXR1cmZyZXVuZGUtd29sZnJhdHNoYXVzZW4u
 ZGU=" base="" >Diese E-Mail-Adresse ist vor Spambots geschützt! Zur Anzeige
  muss JavaScript eingeschaltet sein.</joomla-hidden-mail></p>
DTSTAMP:20260422T201104
DTSTART;TZID=Europe/Berlin:20251003T070000
SEQUENCE:0
TRANSP:OPAQUE
END:VEVENT
END:VCALENDAR