BEGIN:VCALENDAR
VERSION:2.0
PRODID:-//jEvents 2.0 for Joomla//EN
CALSCALE:GREGORIAN
METHOD:PUBLISH
BEGIN:VTIMEZONE
TZID:Europe/Berlin
BEGIN:STANDARD
DTSTART:20241027T020000
RDATE:20250330T030000
TZOFFSETFROM:+0200
TZOFFSETTO:+0100
TZNAME:Europe/Berlin CET
END:STANDARD
BEGIN:STANDARD
DTSTART:20251026T020000
RDATE:20260329T030000
TZOFFSETFROM:+0200
TZOFFSETTO:+0100
TZNAME:Europe/Berlin CET
END:STANDARD
BEGIN:STANDARD
DTSTART:20261025T020000
RDATE:20270328T030000
TZOFFSETFROM:+0200
TZOFFSETTO:+0100
TZNAME:Europe/Berlin CET
END:STANDARD
BEGIN:STANDARD
DTSTART:20271031T020000
RDATE:20280326T030000
TZOFFSETFROM:+0200
TZOFFSETTO:+0100
TZNAME:Europe/Berlin CET
END:STANDARD
BEGIN:DAYLIGHT
DTSTART:20241009T000000
RDATE:20241027T020000
TZOFFSETFROM:+0100
TZOFFSETTO:+0200
TZNAME:Europe/Berlin CEST
END:DAYLIGHT
BEGIN:DAYLIGHT
DTSTART:20250330T030000
RDATE:20251026T020000
TZOFFSETFROM:+0100
TZOFFSETTO:+0200
TZNAME:Europe/Berlin CEST
END:DAYLIGHT
BEGIN:DAYLIGHT
DTSTART:20260329T030000
RDATE:20261025T020000
TZOFFSETFROM:+0100
TZOFFSETTO:+0200
TZNAME:Europe/Berlin CEST
END:DAYLIGHT
BEGIN:DAYLIGHT
DTSTART:20270328T030000
RDATE:20271031T020000
TZOFFSETFROM:+0100
TZOFFSETTO:+0200
TZNAME:Europe/Berlin CEST
END:DAYLIGHT
END:VTIMEZONE
BEGIN:VEVENT
UID:919847d1241371c1147a2c30cf4c94d1
CATEGORIES:Kanu
CREATED:20250315T140311
SUMMARY:Wildwasserwochenende in Lofer
DESCRIPTION:<p>Das Paddeljahr 2025 wollen wir mit einem Wochenende an der Saalach auskl
 ingen lassen. An diesem Wochenende können nochmal die unterschiedlichen Abs
 chnitte der Saalach gepaddelt werden. </p><p>Standort: Campingplatz Grubhof
  (<a href="https://www.grubhof.com">www.grubhof.com</a>) </p><p>Tourenleitu
 ng: Udo &amp; Markus <br />Mail: <joomla-hidden-mail  is-link="1" is-email=
 "1" first="S2FudQ==" last="bmF0dXJmcmV1bmRlLXdvbGZyYXRzaGF1c2VuLmRl" text="
 S2FudUBuYXR1cmZyZXVuZGUtd29sZnJhdHNoYXVzZW4uZGU=" base="" >Diese E-Mail-Adr
 esse ist vor Spambots geschützt! Zur Anzeige muss JavaScript eingeschaltet 
 sein.</joomla-hidden-mail></p>
DTSTAMP:20260422T172808
DTSTART;TZID=Europe/Berlin;VALUE=DATE:20251010
DTEND;TZID=Europe/Berlin;VALUE=DATE:20251013
SEQUENCE:0
TRANSP:OPAQUE
END:VEVENT
END:VCALENDAR