BEGIN:VCALENDAR
VERSION:2.0
PRODID:-//jEvents 2.0 for Joomla//EN
CALSCALE:GREGORIAN
METHOD:PUBLISH
BEGIN:VTIMEZONE
TZID:Europe/Berlin
BEGIN:STANDARD
DTSTART:20241027T020000
RDATE:20250330T030000
TZOFFSETFROM:+0200
TZOFFSETTO:+0100
TZNAME:Europe/Berlin CET
END:STANDARD
BEGIN:STANDARD
DTSTART:20251026T020000
RDATE:20260329T030000
TZOFFSETFROM:+0200
TZOFFSETTO:+0100
TZNAME:Europe/Berlin CET
END:STANDARD
BEGIN:STANDARD
DTSTART:20261025T020000
RDATE:20270328T030000
TZOFFSETFROM:+0200
TZOFFSETTO:+0100
TZNAME:Europe/Berlin CET
END:STANDARD
BEGIN:STANDARD
DTSTART:20271031T020000
RDATE:20280326T030000
TZOFFSETFROM:+0200
TZOFFSETTO:+0100
TZNAME:Europe/Berlin CET
END:STANDARD
BEGIN:DAYLIGHT
DTSTART:20241010T000000
RDATE:20241027T020000
TZOFFSETFROM:+0100
TZOFFSETTO:+0200
TZNAME:Europe/Berlin CEST
END:DAYLIGHT
BEGIN:DAYLIGHT
DTSTART:20250330T030000
RDATE:20251026T020000
TZOFFSETFROM:+0100
TZOFFSETTO:+0200
TZNAME:Europe/Berlin CEST
END:DAYLIGHT
BEGIN:DAYLIGHT
DTSTART:20260329T030000
RDATE:20261025T020000
TZOFFSETFROM:+0100
TZOFFSETTO:+0200
TZNAME:Europe/Berlin CEST
END:DAYLIGHT
BEGIN:DAYLIGHT
DTSTART:20270328T030000
RDATE:20271031T020000
TZOFFSETFROM:+0100
TZOFFSETTO:+0200
TZNAME:Europe/Berlin CEST
END:DAYLIGHT
END:VTIMEZONE
BEGIN:VEVENT
UID:770605505e8ac32e18aba52939365e11
CATEGORIES:Kultur & Natur
CREATED:20250315T140616
SUMMARY:Kulturfahrt
DESCRIPTION:<p>Unsere Kulturfahrt führt uns in diesem Jahr in die älteste Stadt Deutsch
 lands - nach <strong>Cambodunum</strong> - so jedenfalls nannten sie die Rö
 mer, als sie vor rund 2.000 Jahren in dieses keltische Gebiet eindrangen. H
 eute ist die “Polis” bekannt als <strong>Kempten</strong>, doch die Überres
 te der Römer sind noch immer allgegenwärtig; und auf deren Spuren wollen w
 ir auf Entdeckungsreise gehen. </p><p>Genaues Programm kommt als Rundmail. 
 Maximale Teilnehmerzahl 20. </p><p>Infos und Anmeldung bei Brunhild, Tel: 0
 1520-6010661 <br />Mail: <joomla-hidden-mail  is-link="1" is-email="1" firs
 t="YnJ1bmhpbGQubg==" last="bmF0dXJmcmV1bmRlLXdvbGZyYXRzaGF1c2VuLmRl" text="
 YnJ1bmhpbGQubkBuYXR1cmZyZXVuZGUtd29sZnJhdHNoYXVzZW4uZGU=" base="" >Diese E-
 Mail-Adresse ist vor Spambots geschützt! Zur Anzeige muss JavaScript einges
 chaltet sein.</joomla-hidden-mail></p>
DTSTAMP:20260422T171346
DTSTART;TZID=Europe/Berlin;VALUE=DATE:20251011
DTEND;TZID=Europe/Berlin;VALUE=DATE:20251013
SEQUENCE:0
TRANSP:OPAQUE
END:VEVENT
END:VCALENDAR