BEGIN:VCALENDAR
VERSION:2.0
PRODID:-//jEvents 2.0 for Joomla//EN
CALSCALE:GREGORIAN
METHOD:PUBLISH
BEGIN:VTIMEZONE
TZID:Europe/Berlin
BEGIN:STANDARD
DTSTART:20241027T020000
RDATE:20250330T030000
TZOFFSETFROM:+0200
TZOFFSETTO:+0100
TZNAME:Europe/Berlin CET
END:STANDARD
BEGIN:STANDARD
DTSTART:20251026T020000
RDATE:20260329T030000
TZOFFSETFROM:+0200
TZOFFSETTO:+0100
TZNAME:Europe/Berlin CET
END:STANDARD
BEGIN:STANDARD
DTSTART:20261025T020000
RDATE:20270328T030000
TZOFFSETFROM:+0200
TZOFFSETTO:+0100
TZNAME:Europe/Berlin CET
END:STANDARD
BEGIN:STANDARD
DTSTART:20271031T020000
RDATE:20280326T030000
TZOFFSETFROM:+0200
TZOFFSETTO:+0100
TZNAME:Europe/Berlin CET
END:STANDARD
BEGIN:DAYLIGHT
DTSTART:20241011T090000
RDATE:20241027T020000
TZOFFSETFROM:+0100
TZOFFSETTO:+0200
TZNAME:Europe/Berlin CEST
END:DAYLIGHT
BEGIN:DAYLIGHT
DTSTART:20250330T030000
RDATE:20251026T020000
TZOFFSETFROM:+0100
TZOFFSETTO:+0200
TZNAME:Europe/Berlin CEST
END:DAYLIGHT
BEGIN:DAYLIGHT
DTSTART:20260329T030000
RDATE:20261025T020000
TZOFFSETFROM:+0100
TZOFFSETTO:+0200
TZNAME:Europe/Berlin CEST
END:DAYLIGHT
BEGIN:DAYLIGHT
DTSTART:20270328T030000
RDATE:20271031T020000
TZOFFSETFROM:+0100
TZOFFSETTO:+0200
TZNAME:Europe/Berlin CEST
END:DAYLIGHT
END:VTIMEZONE
BEGIN:VEVENT
UID:d802a123d8fa6cd3910d0f71adb82666
CATEGORIES:Rad
CREATED:20250315T140754
SUMMARY:MTB-Tour von Ohlstadt zur Ruine Werdenfels
DESCRIPTION:Vom Start ab Ohlstadt geht es zunächst an der Loisach entlang Richtung Esch
 enlohe, dann auf der anderen Seite der A95 weiter nach Höllenstein und das 
 Katzental nach Oberau. Über den Kirchbichl hinweg dann weiter am Waldrand e
 ntlang zur Ruine Werdenfels, von wo eine wunderschöne Aussicht die Anfahrt 
 belohnt. Einkehr wird in der Hütte Werdenfels gehalten. Zurück gelangen wir
  auf der östlichen Seite der Loisach am Waldrand über die Sieben Quellen na
 ch Eschenlohe und unterhalb des Heldenkreuzes entlang wieder nach Ohlstadt.
  \nStrecke/Höhenmeter: 47 km bei 450 Hm, Fahrtzeit ca. 4 Std. \nHinweise: H
 elm ist zwingend erforderlich, bitte vorab beim Tourenleiter anmelden \nTou
 renleitung: Otto, Tel: 08171-21371 oder 0157-35482430 \nMail: Diese E-Mail-
 Adresse ist vor Spambots geschützt! Zur Anzeige muss JavaScript eingeschalt
 et sein.\n
X-ALT-DESC;FMTTYPE=text/html:<p>Vom Start ab Ohlstadt geht es zunächst an der Loisach entlang Richtung E
 schenlohe, dann auf der anderen Seite der A95 weiter nach Höllenstein und d
 as Katzental nach Oberau. Über den Kirchbichl hinweg dann weiter am Waldran
 d entlang zur Ruine Werdenfels, von wo eine wunderschöne Aussicht die Anfah
 rt belohnt. Einkehr wird in der Hütte Werdenfels gehalten. Zurück gelangen 
 wir auf der östlichen Seite der Loisach am Waldrand über die Sieben Quellen
  nach Eschenlohe und unterhalb des Heldenkreuzes entlang wieder nach Ohlsta
 dt. </p><p>Strecke/Höhenmeter: 47 km bei 450 Hm, Fahrtzeit ca. 4 Std. </p><
 p><strong>Hinweise: Helm ist zwingend erforderlich, bitte vorab beim Touren
 leiter anmelden</strong> </p><p>Tourenleitung: Otto, Tel: 08171-21371 oder 
 0157-35482430 <br />Mail: <joomla-hidden-mail  is-link="1" is-email="1" fir
 st="b3R0by5i" last="bmF0dXJmcmV1bmRlLXdvbGZyYXRzaGF1c2VuLmRl" text="b3R0by5
 iQG5hdHVyZnJldW5kZS13b2xmcmF0c2hhdXNlbi5kZQ==" base="" >Diese E-Mail-Adress
 e ist vor Spambots geschützt! Zur Anzeige muss JavaScript eingeschaltet sei
 n.</joomla-hidden-mail></p>
DTSTAMP:20260422T154253
DTSTART;TZID=Europe/Berlin:20251012T090000
SEQUENCE:0
TRANSP:OPAQUE
END:VEVENT
END:VCALENDAR