BEGIN:VCALENDAR
VERSION:2.0
PRODID:-//jEvents 2.0 for Joomla//EN
CALSCALE:GREGORIAN
METHOD:PUBLISH
BEGIN:VTIMEZONE
TZID:Europe/Berlin
BEGIN:STANDARD
DTSTART:20241027T020000
RDATE:20250330T030000
TZOFFSETFROM:+0200
TZOFFSETTO:+0100
TZNAME:Europe/Berlin CET
END:STANDARD
BEGIN:STANDARD
DTSTART:20251026T020000
RDATE:20260329T030000
TZOFFSETFROM:+0200
TZOFFSETTO:+0100
TZNAME:Europe/Berlin CET
END:STANDARD
BEGIN:STANDARD
DTSTART:20261025T020000
RDATE:20270328T030000
TZOFFSETFROM:+0200
TZOFFSETTO:+0100
TZNAME:Europe/Berlin CET
END:STANDARD
BEGIN:STANDARD
DTSTART:20271031T020000
RDATE:20280326T030000
TZOFFSETFROM:+0200
TZOFFSETTO:+0100
TZNAME:Europe/Berlin CET
END:STANDARD
BEGIN:DAYLIGHT
DTSTART:20241017T190000
RDATE:20241027T020000
TZOFFSETFROM:+0100
TZOFFSETTO:+0200
TZNAME:Europe/Berlin CEST
END:DAYLIGHT
BEGIN:DAYLIGHT
DTSTART:20250330T030000
RDATE:20251026T020000
TZOFFSETFROM:+0100
TZOFFSETTO:+0200
TZNAME:Europe/Berlin CEST
END:DAYLIGHT
BEGIN:DAYLIGHT
DTSTART:20260329T030000
RDATE:20261025T020000
TZOFFSETFROM:+0100
TZOFFSETTO:+0200
TZNAME:Europe/Berlin CEST
END:DAYLIGHT
BEGIN:DAYLIGHT
DTSTART:20270328T030000
RDATE:20271031T020000
TZOFFSETFROM:+0100
TZOFFSETTO:+0200
TZNAME:Europe/Berlin CEST
END:DAYLIGHT
END:VTIMEZONE
BEGIN:VEVENT
UID:992700d8b1a98297bf78acce0ea58a99
CATEGORIES:Allgemein
CREATED:20250315T141006
SUMMARY:Gemeinsamer Saisonabschluss
DESCRIPTION:<p>für Bergsteiger, Wanderer, Biker, Kajakfahrer und alle weiteren Aktiven…
  <br />Mit Jahresrückblicken der Sparten, gemeinsamem Abendessen und gemütl
 ichem Beisammensein wollen wir die Saison ausklingen lassen.</p><p>Wir sind
  heuer im Landhauscafé Wolfratshausen.</p><p>Info und Anmeldung: Hugo, Tel:
  0175-1617513 <br />Mail: <joomla-hidden-mail  is-link="1" is-email="1" fir
 st="aHVnbw==" last="bmF0dXJmcmV1bmRlLXdvbGZyYXRzaGF1c2VuLmRl" text="aHVnb0B
 uYXR1cmZyZXVuZGUtd29sZnJhdHNoYXVzZW4uZGU=" base="" >Diese E-Mail-Adresse is
 t vor Spambots geschützt! Zur Anzeige muss JavaScript eingeschaltet sein.</
 joomla-hidden-mail></p>
DTSTAMP:20260422T171244
DTSTART;TZID=Europe/Berlin:20251018T190000
SEQUENCE:0
TRANSP:OPAQUE
END:VEVENT
END:VCALENDAR