BEGIN:VCALENDAR
VERSION:2.0
PRODID:-//jEvents 2.0 for Joomla//EN
CALSCALE:GREGORIAN
METHOD:PUBLISH
BEGIN:VTIMEZONE
TZID:Europe/Berlin
BEGIN:STANDARD
DTSTART:20241027T020000
RDATE:20250330T030000
TZOFFSETFROM:+0200
TZOFFSETTO:+0100
TZNAME:Europe/Berlin CET
END:STANDARD
BEGIN:STANDARD
DTSTART:20251026T020000
RDATE:20260329T030000
TZOFFSETFROM:+0200
TZOFFSETTO:+0100
TZNAME:Europe/Berlin CET
END:STANDARD
BEGIN:STANDARD
DTSTART:20261025T020000
RDATE:20270328T030000
TZOFFSETFROM:+0200
TZOFFSETTO:+0100
TZNAME:Europe/Berlin CET
END:STANDARD
BEGIN:STANDARD
DTSTART:20271031T020000
RDATE:20280326T030000
TZOFFSETFROM:+0200
TZOFFSETTO:+0100
TZNAME:Europe/Berlin CET
END:STANDARD
BEGIN:DAYLIGHT
DTSTART:20241018T080000
RDATE:20241027T020000
TZOFFSETFROM:+0100
TZOFFSETTO:+0200
TZNAME:Europe/Berlin CEST
END:DAYLIGHT
BEGIN:DAYLIGHT
DTSTART:20250330T030000
RDATE:20251026T020000
TZOFFSETFROM:+0100
TZOFFSETTO:+0200
TZNAME:Europe/Berlin CEST
END:DAYLIGHT
BEGIN:DAYLIGHT
DTSTART:20260329T030000
RDATE:20261025T020000
TZOFFSETFROM:+0100
TZOFFSETTO:+0200
TZNAME:Europe/Berlin CEST
END:DAYLIGHT
BEGIN:DAYLIGHT
DTSTART:20270328T030000
RDATE:20271031T020000
TZOFFSETFROM:+0100
TZOFFSETTO:+0200
TZNAME:Europe/Berlin CEST
END:DAYLIGHT
END:VTIMEZONE
BEGIN:VEVENT
UID:2b51cba62456922b522a8daa524a99c6
CATEGORIES:Berg
CREATED:20250315T141521
SUMMARY:Bergtour auf den Zäunlkopf, 1.746 m – Karwendelgebirge
DESCRIPTION:Wir beginnen unsere Tour in Scharnitz am Naturpark-Infozentrum. Es geht dur
 ch den Wald aufwärts, bis uns ein kurzer steiler Abstieg in die Teufelsloch
 klamm erwartet. Der Aufstieg ist seilversichert und erfordert Trittsicherhe
 it. Weiter führt der Steig unterhalb des Zunterkopfs, 1.661 m vorbei und wi
 r erreichen nach einem erneuten Abstieg die Oberbrunner Alm, 1.515 m. Leide
 r ist diese im Oktober schon geschlossen, doch wir legen auf jeden Fall dor
 t eine Pause ein. Nochmals geht es dann bergauf bis zum Aussichtspunkt am Z
 äunlkopf, 1.746 m, wo wir endlich das Panorama um Scharnitz genießen können
 . Der Abstieg läuft über den Mittagskopf/Mühlberg zurück zum Parkplatz. \nE
 inkehr: geplant in Gießenbach, bitte Brotzeit mitnehmen \nGehzeit/Höhenmete
 r: 5,5 Std. bei 920 Hm \nAnforderung/Hinweise: mittelschwere Wanderung, Kon
 dition und Trittsicherheit erforderlich. Anmeldung erbeten\nTourenleitung: 
 Traudl, Tel. 0171 4540198 \nMail: Diese E-Mail-Adresse ist vor Spambots ges
 chützt! Zur Anzeige muss JavaScript eingeschaltet sein.\n
X-ALT-DESC;FMTTYPE=text/html:<p>Wir beginnen unsere Tour in Scharnitz am Naturpark-Infozentrum. Es geht 
 durch den Wald aufwärts, bis uns ein kurzer steiler Abstieg in die Teufels
 lochklamm erwartet. Der Aufstieg ist seilversichert und erfordert Trittsich
 erheit. Weiter führt der Steig unterhalb des Zunterkopfs, 1.661 m vorbei u
 nd wir erreichen nach einem erneuten Abstieg die Oberbrunner Alm, 1.515 m. 
 Leider ist diese im Oktober schon geschlossen, doch wir legen auf jeden Fal
 l dort eine Pause ein. Nochmals geht es dann bergauf bis zum Aussichtspunkt
  am Zäunlkopf, 1.746 m, wo wir endlich das Panorama um Scharnitz genießen 
 können. Der Abstieg läuft über den Mittagskopf/Mühlberg zurück zum Parkplat
 z. </p><p>Einkehr: geplant in Gießenbach, bitte Brotzeit mitnehmen </p><p>G
 ehzeit/Höhenmeter: 5,5 Std. bei 920 Hm </p><p><strong>Anforderung/Hinweise:
  mittelschwere Wanderung, Kondition und Trittsicherheit erforderlich. Anmel
 dung erbeten</strong></p><p>Tourenleitung: Traudl, Tel. 0171 4540198 <br />
 Mail: <joomla-hidden-mail  is-link="1" is-email="1" first="dHJhdWRsLmI=" la
 st="bmF0dXJmcmV1bmRlLndvbGZyYXRzaGF1c2VuLmRl" text="dHJhdWRsLmJAbmF0dXJmcmV
 1bmRlLndvbGZyYXRzaGF1c2VuLmRl" base="" >Diese E-Mail-Adresse ist vor Spambo
 ts geschützt! Zur Anzeige muss JavaScript eingeschaltet sein.</joomla-hidde
 n-mail></p>
DTSTAMP:20260422T154256
DTSTART;TZID=Europe/Berlin:20251019T080000
SEQUENCE:0
TRANSP:OPAQUE
END:VEVENT
END:VCALENDAR