BEGIN:VCALENDAR
VERSION:2.0
PRODID:-//jEvents 2.0 for Joomla//EN
CALSCALE:GREGORIAN
METHOD:PUBLISH
BEGIN:VTIMEZONE
TZID:Europe/Berlin
BEGIN:STANDARD
DTSTART:20241027T020000
RDATE:20250330T030000
TZOFFSETFROM:+0200
TZOFFSETTO:+0100
TZNAME:Europe/Berlin CET
END:STANDARD
BEGIN:STANDARD
DTSTART:20251026T020000
RDATE:20260329T030000
TZOFFSETFROM:+0200
TZOFFSETTO:+0100
TZNAME:Europe/Berlin CET
END:STANDARD
BEGIN:STANDARD
DTSTART:20261025T020000
RDATE:20270328T030000
TZOFFSETFROM:+0200
TZOFFSETTO:+0100
TZNAME:Europe/Berlin CET
END:STANDARD
BEGIN:STANDARD
DTSTART:20271031T020000
RDATE:20280326T030000
TZOFFSETFROM:+0200
TZOFFSETTO:+0100
TZNAME:Europe/Berlin CET
END:STANDARD
BEGIN:DAYLIGHT
DTSTART:20240917T153000
RDATE:20241027T020000
TZOFFSETFROM:+0100
TZOFFSETTO:+0200
TZNAME:Europe/Berlin CEST
END:DAYLIGHT
BEGIN:DAYLIGHT
DTSTART:20250330T030000
RDATE:20251026T020000
TZOFFSETFROM:+0100
TZOFFSETTO:+0200
TZNAME:Europe/Berlin CEST
END:DAYLIGHT
BEGIN:DAYLIGHT
DTSTART:20260329T030000
RDATE:20261025T020000
TZOFFSETFROM:+0100
TZOFFSETTO:+0200
TZNAME:Europe/Berlin CEST
END:DAYLIGHT
BEGIN:DAYLIGHT
DTSTART:20270328T030000
RDATE:20271031T020000
TZOFFSETFROM:+0100
TZOFFSETTO:+0200
TZNAME:Europe/Berlin CEST
END:DAYLIGHT
END:VTIMEZONE
BEGIN:VEVENT
UID:e30fa6f07148ede89697489e2593ddb2
CATEGORIES:KIDZ
CREATED:20250911T163508
SUMMARY:Kidz Kayak
DESCRIPTION:Kidz Kayak am 18.09.2025 15:30-17:30 Uhr\nWir treffen uns am Donnerstag, de
 n 18.09.25 von 15:30 bis 17:30 Uhr an der Naturfreunde Hütte am Badweiher i
 n Wolfratshausen.\nEingeladen sind Schulkinder, die sich für das Kajakfahre
 n interessieren. Wir werden spielerisch die ersten Erfahrungen im Kajak mac
 hen.\nDie Kinder werden von ausgebildeten Kanusport ÜbungsleiterInnen betre
 ut.\nAnforderungen/Hinweise: Neoprenbekleidung, wassertaugliche Schuhe sowi
 e Helm und Schwimmweste sind Pflicht.\nDie Kinder müssen sicher schwimmen k
 önnen!\n\nNach Rücksprache können Materialien soweit vorhanden ausgeliehen 
 werden.\nEs empfiehlt sich eine Brotzeit und ein Getränk mitzugeben. \nEs k
 önnen auch Nicht-Vereinsmitglieder zum Schnuppern teilnehmen.\nEine verbind
 liche Anmeldung bis 48 Stunden vor Veranstaltungsbeginn ist unbedingt erfor
 derlich.\nBei zu schlechten Wetterverhältnissen wird der Termin verschoben.
 \nDurchführung: Anita Klement\nMail: Diese E-Mail-Adresse ist vor Spambots 
 geschützt! Zur Anzeige muss JavaScript eingeschaltet sein.\n
X-ALT-DESC;FMTTYPE=text/html:<p>Kidz Kayak am 18.09.2025 15:30-17:30 Uhr</p><p>Wir treffen uns am Donner
 stag, den 18.09.25 von 15:30 bis 17:30 Uhr an der Naturfreunde Hütte am Bad
 weiher in Wolfratshausen.</p><p>Eingeladen sind Schulkinder, die sich für d
 as Kajakfahren interessieren. Wir werden spielerisch die ersten Erfahrungen
  im Kajak machen.</p><p>Die Kinder werden von ausgebildeten Kanusport Übung
 sleiterInnen betreut.</p><p><strong>Anforderungen/Hinweise</strong>: Neopre
 nbekleidung, wassertaugliche Schuhe sowie Helm und Schwimmweste sind Pflich
 t.</p><p><strong>Die Kinder müssen sicher schwimmen können!</strong><br /><
 br />Nach Rücksprache können Materialien soweit vorhanden ausgeliehen werde
 n.<br />Es empfiehlt sich eine Brotzeit und ein Getränk mitzugeben. <br />E
 s können auch Nicht-Vereinsmitglieder zum Schnuppern teilnehmen.</p><p>Eine
  verbindliche Anmeldung bis 48 Stunden vor Veranstaltungsbeginn ist unbedin
 gt erforderlich.</p><p>Bei zu schlechten Wetterverhältnissen wird der Termi
 n verschoben.</p><p>Durchführung: Anita Klement<br />Mail: <joomla-hidden-m
 ail  is-link="1" is-email="1" first="YW5pdGEuaw==" last="bmF0dXJmcmV1bmRlLX
 dvbGZyYXRzaGF1c2VuLmRl" text="YW5pdGEua0BuYXR1cmZyZXVuZGUtd29sZnJhdHNoYXVzZ
 W4uZGU=" base="" >Diese E-Mail-Adresse ist vor Spambots geschützt! Zur Anze
 ige muss JavaScript eingeschaltet sein.</joomla-hidden-mail></p>
DTSTAMP:20260422T212842
DTSTART;TZID=Europe/Berlin:20250918T153000
DTEND;TZID=Europe/Berlin:20250918T173000
SEQUENCE:0
TRANSP:OPAQUE
END:VEVENT
END:VCALENDAR