BEGIN:VCALENDAR
VERSION:2.0
PRODID:-//jEvents 2.0 for Joomla//EN
CALSCALE:GREGORIAN
METHOD:PUBLISH
BEGIN:VTIMEZONE
TZID:Europe/Berlin
BEGIN:STANDARD
DTSTART:20241027T020000
RDATE:20250330T030000
TZOFFSETFROM:+0200
TZOFFSETTO:+0100
TZNAME:Europe/Berlin CET
END:STANDARD
BEGIN:STANDARD
DTSTART:20251026T020000
RDATE:20260329T030000
TZOFFSETFROM:+0200
TZOFFSETTO:+0100
TZNAME:Europe/Berlin CET
END:STANDARD
BEGIN:STANDARD
DTSTART:20261025T020000
RDATE:20270328T030000
TZOFFSETFROM:+0200
TZOFFSETTO:+0100
TZNAME:Europe/Berlin CET
END:STANDARD
BEGIN:STANDARD
DTSTART:20271031T020000
RDATE:20280326T030000
TZOFFSETFROM:+0200
TZOFFSETTO:+0100
TZNAME:Europe/Berlin CET
END:STANDARD
BEGIN:DAYLIGHT
DTSTART:20241016T193000
RDATE:20241027T020000
TZOFFSETFROM:+0100
TZOFFSETTO:+0200
TZNAME:Europe/Berlin CEST
END:DAYLIGHT
BEGIN:DAYLIGHT
DTSTART:20250330T030000
RDATE:20251026T020000
TZOFFSETFROM:+0100
TZOFFSETTO:+0200
TZNAME:Europe/Berlin CEST
END:DAYLIGHT
BEGIN:DAYLIGHT
DTSTART:20260329T030000
RDATE:20261025T020000
TZOFFSETFROM:+0100
TZOFFSETTO:+0200
TZNAME:Europe/Berlin CEST
END:DAYLIGHT
BEGIN:DAYLIGHT
DTSTART:20270328T030000
RDATE:20271031T020000
TZOFFSETFROM:+0100
TZOFFSETTO:+0200
TZNAME:Europe/Berlin CEST
END:DAYLIGHT
END:VTIMEZONE
BEGIN:VEVENT
UID:80f097348834f5410b642c58740b5ef3
CATEGORIES:KIDZ
CREATED:20250914T131725
SUMMARY:Kletterkurs „Kletterschein Toprope“
DESCRIPTION:<p>Termine: Freitag 17.10., 14.11., 28.11.25., Je 19:30 Uhr - 22:00 Uhr im 
 Kletterzentrum Bad Tölz</p><p>Der Kurs richtet sich in erster Linie an die 
 Eltern der KIDZ, die beim Klettertreff in sichernder Funktion unterstützen 
 wollen.</p><p>Ausrüstung kann in der Kletterhalle gegen Gebühr geliehen wer
 den. Die Kosten für den Eintritt sind selbst zu tragen.</p><p>Mindestalter:
  18 Jahre</p><p>Bitte um verbindliche Anmeldung bis zum 10.10.2025.</p><p>D
 urchführung: Anita Klement<br />Mail: <joomla-hidden-mail  is-link="1" is-e
 mail="1" first="YW5pdGEuaw==" last="bmF0dXJmcmV1bmRlLXdvbGZyYXRzaGF1c2VuLmR
 l" text="YW5pdGEua0BuYXR1cmZyZXVuZGUtd29sZnJhdHNoYXVzZW4uZGU=" base="" >Die
 se E-Mail-Adresse ist vor Spambots geschützt! Zur Anzeige muss JavaScript e
 ingeschaltet sein.</joomla-hidden-mail></p>
DTSTAMP:20260422T171307
DTSTART;TZID=Europe/Berlin:20251017T193000
DTEND;TZID=Europe/Berlin:20251017T220000
SEQUENCE:0
TRANSP:OPAQUE
END:VEVENT
END:VCALENDAR