BEGIN:VCALENDAR
VERSION:2.0
PRODID:-//jEvents 2.0 for Joomla//EN
CALSCALE:GREGORIAN
METHOD:PUBLISH
BEGIN:VTIMEZONE
TZID:Europe/Berlin
BEGIN:STANDARD
DTSTART:20241027T020000
RDATE:20250330T030000
TZOFFSETFROM:+0200
TZOFFSETTO:+0100
TZNAME:Europe/Berlin CET
END:STANDARD
BEGIN:STANDARD
DTSTART:20251026T020000
RDATE:20260329T030000
TZOFFSETFROM:+0200
TZOFFSETTO:+0100
TZNAME:Europe/Berlin CET
END:STANDARD
BEGIN:STANDARD
DTSTART:20261025T020000
RDATE:20270328T030000
TZOFFSETFROM:+0200
TZOFFSETTO:+0100
TZNAME:Europe/Berlin CET
END:STANDARD
BEGIN:STANDARD
DTSTART:20271031T020000
RDATE:20280326T030000
TZOFFSETFROM:+0200
TZOFFSETTO:+0100
TZNAME:Europe/Berlin CET
END:STANDARD
BEGIN:DAYLIGHT
DTSTART:20241017T140000
RDATE:20241027T020000
TZOFFSETFROM:+0100
TZOFFSETTO:+0200
TZNAME:Europe/Berlin CEST
END:DAYLIGHT
BEGIN:DAYLIGHT
DTSTART:20250330T030000
RDATE:20251026T020000
TZOFFSETFROM:+0100
TZOFFSETTO:+0200
TZNAME:Europe/Berlin CEST
END:DAYLIGHT
BEGIN:DAYLIGHT
DTSTART:20260329T030000
RDATE:20261025T020000
TZOFFSETFROM:+0100
TZOFFSETTO:+0200
TZNAME:Europe/Berlin CEST
END:DAYLIGHT
BEGIN:DAYLIGHT
DTSTART:20270328T030000
RDATE:20271031T020000
TZOFFSETFROM:+0100
TZOFFSETTO:+0200
TZNAME:Europe/Berlin CEST
END:DAYLIGHT
END:VTIMEZONE
BEGIN:VEVENT
UID:7e37e745c46e00437e85a16e8dd1667d
CATEGORIES:KIDZ
CREATED:20250914T132328
SUMMARY:KIDZ Saisonabschluss
DESCRIPTION:KIDZ Saisonabschluss am 18.10.25\nZum Abschluss unseres Paddeljahres wollen
  wir uns am KIDZ Grundstück in Waldram ab 14 bis 18 Uhr zum Saisonabschluss
  treffen.\nDie Boote müssen gereinigt und eingelagert werden.\nAnschließend
  wollen wir gemeinsam grillen und mit einem Fest der Aktiven und HelferInne
 n die Sommersaison abschließen.\nWeitere Infos bei Anita Klement\nMail: Die
 se E-Mail-Adresse ist vor Spambots geschützt! Zur Anzeige muss JavaScript e
 ingeschaltet sein.\n
X-ALT-DESC;FMTTYPE=text/html:<p>KIDZ Saisonabschluss am 18.10.25</p><p>Zum Abschluss unseres Paddeljahre
 s wollen wir uns am KIDZ Grundstück in Waldram ab 14 bis 18 Uhr zum Saisona
 bschluss treffen.</p><p>Die Boote müssen gereinigt und eingelagert werden.<
 br />Anschließend wollen wir gemeinsam grillen und mit einem Fest der Aktiv
 en und HelferInnen die Sommersaison abschließen.</p><p>Weitere Infos bei An
 ita Klement<br />Mail: <joomla-hidden-mail  is-link="1" is-email="1" first=
 "YW5pdGEuaw==" last="bmF0dXJmcmV1bmRlLXdvbGZyYXRzaGF1c2VuLmRl" text="YW5pdG
 Eua0BuYXR1cmZyZXVuZGUtd29sZnJhdHNoYXVzZW4uZGU=" base="" >Diese E-Mail-Adres
 se ist vor Spambots geschützt! Zur Anzeige muss JavaScript eingeschaltet se
 in.</joomla-hidden-mail></p>
DTSTAMP:20260422T154258
DTSTART;TZID=Europe/Berlin:20251018T140000
DTEND;TZID=Europe/Berlin:20251018T180000
SEQUENCE:0
TRANSP:OPAQUE
END:VEVENT
END:VCALENDAR